Package: scDataviz Version: 1.20.0 Command: /home/biocbuild/bbs-3.22-bioc/R/bin/R CMD check --install=check:scDataviz.install-out.txt --library=/home/biocbuild/bbs-3.22-bioc/R/site-library --timings scDataviz_1.20.0.tar.gz StartedAt: 2025-11-14 03:46:27 -0500 (Fri, 14 Nov 2025) EndedAt: 2025-11-14 03:55:02 -0500 (Fri, 14 Nov 2025) EllapsedTime: 515.8 seconds RetCode: 0 Status: OK CheckDir: scDataviz.Rcheck Warnings: 0