Package: scDataviz Version: 1.18.0 Command: /home/biocbuild/R/R/bin/R CMD check --install=check:scDataviz.install-out.txt --library=/home/biocbuild/R/R/site-library --no-vignettes --timings scDataviz_1.18.0.tar.gz StartedAt: 2025-10-10 13:33:39 -0000 (Fri, 10 Oct 2025) EndedAt: 2025-10-10 13:39:46 -0000 (Fri, 10 Oct 2025) EllapsedTime: 367.4 seconds RetCode: 0 Status: OK CheckDir: scDataviz.Rcheck Warnings: 0