Package: scDDboost Version: 1.12.0 Command: /home/biocbuild/R/R/bin/R CMD INSTALL scDDboost StartedAt: 2025-11-10 21:25:52 -0000 (Mon, 10 Nov 2025) EndedAt: 2025-11-10 21:27:21 -0000 (Mon, 10 Nov 2025) EllapsedTime: 88.6 seconds RetCode: 0 Status: OK