Package: scDDboost Version: 1.12.0 Command: /home/biocbuild/R/R/bin/R CMD build --keep-empty-dirs --no-resave-data scDDboost StartedAt: 2025-11-11 04:51:51 -0000 (Tue, 11 Nov 2025) EndedAt: 2025-11-11 04:54:35 -0000 (Tue, 11 Nov 2025) EllapsedTime: 164.2 seconds RetCode: 0 Status: OK PackageFile: scDDboost_1.12.0.tar.gz PackageFileSize: 627.5 KiB