Package: scDDboost Version: 1.10.0 Command: rm -rf scDDboost.buildbin-libdir && mkdir scDDboost.buildbin-libdir && E:\biocbuild\bbs-3.21-bioc\R\bin\R.exe CMD INSTALL --build --library=scDDboost.buildbin-libdir scDDboost_1.10.0.tar.gz StartedAt: 2025-08-15 10:13:26 -0400 (Fri, 15 Aug 2025) EndedAt: 2025-08-15 10:15:41 -0400 (Fri, 15 Aug 2025) EllapsedTime: 134.8 seconds RetCode: 0 Status: OK PackageFile: scDDboost_1.10.0.zip PackageFileSize: 993.9 KiB