Package: scDDboost Version: 1.12.0 Command: /home/biocbuild/bbs-3.22-bioc/R/bin/R CMD INSTALL scDDboost StartedAt: 2025-11-11 15:23:15 -0500 (Tue, 11 Nov 2025) EndedAt: 2025-11-11 15:24:14 -0500 (Tue, 11 Nov 2025) EllapsedTime: 58.8 seconds RetCode: 0 Status: OK