Package: scDDboost Version: 1.12.0 Command: /home/biocbuild/bbs-3.22-bioc/R/bin/R CMD check --install=check:scDDboost.install-out.txt --library=/home/biocbuild/bbs-3.22-bioc/R/site-library --timings scDDboost_1.12.0.tar.gz StartedAt: 2025-11-12 03:45:47 -0500 (Wed, 12 Nov 2025) EndedAt: 2025-11-12 03:50:55 -0500 (Wed, 12 Nov 2025) EllapsedTime: 307.6 seconds RetCode: 0 Status: OK CheckDir: scDDboost.Rcheck Warnings: 0