Package: scDDboost Version: 1.12.0 Command: /home/biocbuild/bbs-3.22-bioc/R/bin/R CMD build --keep-empty-dirs --no-resave-data --md5 scDDboost StartedAt: 2025-11-11 19:59:52 -0500 (Tue, 11 Nov 2025) EndedAt: 2025-11-11 20:01:30 -0500 (Tue, 11 Nov 2025) EllapsedTime: 98.1 seconds RetCode: 0 Status: OK PackageFile: scDDboost_1.12.0.tar.gz PackageFileSize: 816.8 KiB