Package: scDD Version: 1.34.0 Command: /Library/Frameworks/R.framework/Resources/bin/R CMD INSTALL scDD StartedAt: 2025-10-31 15:58:13 -0400 (Fri, 31 Oct 2025) EndedAt: 2025-10-31 15:59:01 -0400 (Fri, 31 Oct 2025) EllapsedTime: 48.2 seconds RetCode: 0 Status: OK