Package: scDD Version: 1.34.0 Command: /Library/Frameworks/R.framework/Resources/bin/R CMD build --keep-empty-dirs --no-resave-data scDD StartedAt: 2025-10-31 18:40:28 -0400 (Fri, 31 Oct 2025) EndedAt: 2025-10-31 18:43:02 -0400 (Fri, 31 Oct 2025) EllapsedTime: 153.8 seconds RetCode: 0 Status: OK PackageFile: scDD_1.34.0.tar.gz PackageFileSize: 846.3 KiB