Package: scDD Version: 1.32.0 Command: /home/biocbuild/R/R/bin/R CMD INSTALL scDD StartedAt: 2025-10-06 21:15:55 -0000 (Mon, 06 Oct 2025) EndedAt: 2025-10-06 21:16:44 -0000 (Mon, 06 Oct 2025) EllapsedTime: 49.1 seconds RetCode: 0 Status: OK