Package: scDD Version: 1.32.0 Command: /home/biocbuild/R/R/bin/R CMD build --keep-empty-dirs --no-resave-data scDD StartedAt: 2025-10-07 04:19:39 -0000 (Tue, 07 Oct 2025) EndedAt: 2025-10-07 04:22:07 -0000 (Tue, 07 Oct 2025) EllapsedTime: 148.1 seconds RetCode: 0 Status: OK PackageFile: scDD_1.32.0.tar.gz PackageFileSize: 838.8 KiB