Package: scClassify Version: 1.22.0 Command: /home/biocbuild/R/R/bin/R CMD INSTALL scClassify StartedAt: 2025-11-10 21:45:09 -0000 (Mon, 10 Nov 2025) EndedAt: 2025-11-10 21:45:59 -0000 (Mon, 10 Nov 2025) EllapsedTime: 50.4 seconds RetCode: 0 Status: OK