Package: scClassify Version: 1.22.0 Command: /home/biocbuild/R/R/bin/R CMD build --keep-empty-dirs --no-resave-data scClassify StartedAt: 2025-11-11 04:50:52 -0000 (Tue, 11 Nov 2025) EndedAt: 2025-11-11 04:53:14 -0000 (Tue, 11 Nov 2025) EllapsedTime: 142.1 seconds RetCode: 0 Status: OK PackageFile: scClassify_1.22.0.tar.gz PackageFileSize: 2.969 MiB