Package: scClassify Version: 1.20.0 Command: E:\biocbuild\bbs-3.21-bioc\R\bin\R.exe CMD INSTALL scClassify StartedAt: 2025-08-14 16:23:34 -0400 (Thu, 14 Aug 2025) EndedAt: 2025-08-14 16:24:32 -0400 (Thu, 14 Aug 2025) EllapsedTime: 58.1 seconds RetCode: 0 Status: OK