Package: scClassify Version: 1.20.0 Command: rm -rf scClassify.buildbin-libdir && mkdir scClassify.buildbin-libdir && E:\biocbuild\bbs-3.21-bioc\R\bin\R.exe CMD INSTALL --build --library=scClassify.buildbin-libdir scClassify_1.20.0.tar.gz StartedAt: 2025-08-15 10:13:10 -0400 (Fri, 15 Aug 2025) EndedAt: 2025-08-15 10:14:19 -0400 (Fri, 15 Aug 2025) EllapsedTime: 68.9 seconds RetCode: 0 Status: OK PackageFile: scClassify_1.20.0.zip PackageFileSize: 3.253 MiB