Package: scClassify Version: 1.22.0 Command: /home/biocbuild/bbs-3.22-bioc/R/bin/R CMD INSTALL scClassify StartedAt: 2025-11-11 15:40:18 -0500 (Tue, 11 Nov 2025) EndedAt: 2025-11-11 15:40:54 -0500 (Tue, 11 Nov 2025) EllapsedTime: 35.9 seconds RetCode: 0 Status: OK