Package: scCB2 Version: 1.20.0 Command: /home/biocbuild/bbs-3.22-bioc/R/bin/R CMD check --install=check:scCB2.install-out.txt --library=/home/biocbuild/bbs-3.22-bioc/R/site-library --timings scCB2_1.20.0.tar.gz StartedAt: 2025-11-14 03:45:32 -0500 (Fri, 14 Nov 2025) EndedAt: 2025-11-14 03:55:55 -0500 (Fri, 14 Nov 2025) EllapsedTime: 622.9 seconds RetCode: 0 Status: OK CheckDir: scCB2.Rcheck Warnings: 0