Package: scCB2 Version: 1.18.0 Command: /Library/Frameworks/R.framework/Resources/bin/R CMD build --keep-empty-dirs --no-resave-data scCB2 StartedAt: 2025-04-21 17:32:33 -0400 (Mon, 21 Apr 2025) EndedAt: 2025-04-21 17:34:08 -0400 (Mon, 21 Apr 2025) EllapsedTime: 95.1 seconds RetCode: 0 Status: OK PackageFile: scCB2_1.18.0.tar.gz PackageFileSize: 847.2 KiB