Package: scCB2 Version: 1.18.0 Command: /Library/Frameworks/R.framework/Resources/bin/R CMD INSTALL scCB2 StartedAt: 2025-10-13 16:49:00 -0400 (Mon, 13 Oct 2025) EndedAt: 2025-10-13 16:49:49 -0400 (Mon, 13 Oct 2025) EllapsedTime: 49.4 seconds RetCode: 0 Status: OK