Package: scCB2 Version: 1.18.0 Command: /Library/Frameworks/R.framework/Resources/bin/R CMD build --keep-empty-dirs --no-resave-data scCB2 StartedAt: 2025-10-14 08:34:50 -0400 (Tue, 14 Oct 2025) EndedAt: 2025-10-14 08:38:48 -0400 (Tue, 14 Oct 2025) EllapsedTime: 237.6 seconds RetCode: 0 Status: OK PackageFile: scCB2_1.18.0.tar.gz PackageFileSize: 847.2 KiB