Package: scCB2 Version: 1.18.0 Command: rm -rf scCB2.buildbin-libdir && mkdir scCB2.buildbin-libdir && /Users/biocbuild/BBS/utils/build-universal.sh scCB2_1.18.0.tar.gz /Library/Frameworks/R.framework/Resources/bin/R scCB2.buildbin-libdir StartedAt: 2025-10-15 20:20:26 -0400 (Wed, 15 Oct 2025) EndedAt: 2025-10-15 20:21:20 -0400 (Wed, 15 Oct 2025) EllapsedTime: 54.4 seconds RetCode: 0 Status: OK PackageFile: scCB2_1.18.0.tgz PackageFileSize: 888.3 KiB