Package: scBubbletree Version: 1.12.0 Command: /home/biocbuild/R/R/bin/R CMD build --keep-empty-dirs --no-resave-data scBubbletree StartedAt: 2025-11-11 04:50:48 -0000 (Tue, 11 Nov 2025) EndedAt: 2025-11-11 04:58:09 -0000 (Tue, 11 Nov 2025) EllapsedTime: 441.4 seconds RetCode: 0 Status: OK PackageFile: scBubbletree_1.12.0.tar.gz PackageFileSize: 3.958 MiB