Package: scBubbletree Version: 1.12.0 Command: /home/biocbuild/bbs-3.22-bioc/R/bin/R CMD INSTALL scBubbletree StartedAt: 2025-11-13 15:11:37 -0500 (Thu, 13 Nov 2025) EndedAt: 2025-11-13 15:12:04 -0500 (Thu, 13 Nov 2025) EllapsedTime: 26.6 seconds RetCode: 0 Status: OK