Package: scBubbletree Version: 1.12.0 Command: /home/biocbuild/bbs-3.22-bioc/R/bin/R CMD check --install=check:scBubbletree.install-out.txt --library=/home/biocbuild/bbs-3.22-bioc/R/site-library --timings scBubbletree_1.12.0.tar.gz StartedAt: 2025-11-14 03:45:28 -0500 (Fri, 14 Nov 2025) EndedAt: 2025-11-14 04:00:49 -0500 (Fri, 14 Nov 2025) EllapsedTime: 921.1 seconds RetCode: 0 Status: OK CheckDir: scBubbletree.Rcheck Warnings: 0