Package: scBubbletree Version: 1.12.0 Command: /home/biocbuild/bbs-3.22-bioc/R/bin/R CMD build --keep-empty-dirs --no-resave-data --md5 scBubbletree StartedAt: 2025-11-13 19:57:12 -0500 (Thu, 13 Nov 2025) EndedAt: 2025-11-13 20:02:23 -0500 (Thu, 13 Nov 2025) EllapsedTime: 311.3 seconds RetCode: 0 Status: OK PackageFile: scBubbletree_1.12.0.tar.gz PackageFileSize: 4.647 MiB