Package: scBubbletree Version: 1.10.0 Command: /Library/Frameworks/R.framework/Resources/bin/R CMD check --install=check:scBubbletree.install-out.txt --library=/Library/Frameworks/R.framework/Resources/library --no-vignettes --timings scBubbletree_1.10.0.tar.gz StartedAt: 2025-09-26 09:42:16 -0400 (Fri, 26 Sep 2025) EndedAt: 2025-09-26 10:04:41 -0400 (Fri, 26 Sep 2025) EllapsedTime: 1344.8 seconds RetCode: 0 Status: OK CheckDir: scBubbletree.Rcheck Warnings: 0