Package: scAnnotatR Version: 1.16.0 Command: /home/biocbuild/R/R/bin/R CMD INSTALL scAnnotatR StartedAt: 2025-11-13 21:33:53 -0000 (Thu, 13 Nov 2025) EndedAt: 2025-11-13 21:34:59 -0000 (Thu, 13 Nov 2025) EllapsedTime: 66.6 seconds RetCode: 0 Status: OK