Package: scAnnotatR Version: 1.16.0 Command: /home/biocbuild/R/R/bin/R CMD build --keep-empty-dirs --no-resave-data scAnnotatR StartedAt: 2025-11-14 05:00:43 -0000 (Fri, 14 Nov 2025) EndedAt: 2025-11-14 05:11:03 -0000 (Fri, 14 Nov 2025) EllapsedTime: 619.5 seconds RetCode: 0 Status: OK PackageFile: scAnnotatR_1.16.0.tar.gz PackageFileSize: 504.4 KiB