Package: scAnnotatR Version: 1.16.0 Command: /home/biocbuild/bbs-3.22-bioc/R/bin/R CMD check --install=check:scAnnotatR.install-out.txt --library=/home/biocbuild/bbs-3.22-bioc/R/site-library --timings scAnnotatR_1.16.0.tar.gz StartedAt: 2025-11-12 03:42:23 -0500 (Wed, 12 Nov 2025) EndedAt: 2025-11-12 04:00:04 -0500 (Wed, 12 Nov 2025) EllapsedTime: 1061.3 seconds RetCode: 0 Status: WARNINGS CheckDir: scAnnotatR.Rcheck Warnings: 1