Package: scAnnotatR Version: 1.16.0 Command: /home/biocbuild/bbs-3.22-bioc/R/bin/R CMD build --keep-empty-dirs --no-resave-data --md5 scAnnotatR StartedAt: 2025-11-11 19:57:23 -0500 (Tue, 11 Nov 2025) EndedAt: 2025-11-11 20:06:56 -0500 (Tue, 11 Nov 2025) EllapsedTime: 573.5 seconds RetCode: 0 Status: OK PackageFile: scAnnotatR_1.16.0.tar.gz PackageFileSize: 564.3 KiB