Package: satuRn Version: 1.18.0 Command: /home/biocbuild/bbs-3.22-bioc/R/bin/R CMD INSTALL satuRn StartedAt: 2025-11-16 15:21:51 -0500 (Sun, 16 Nov 2025) EndedAt: 2025-11-16 15:22:16 -0500 (Sun, 16 Nov 2025) EllapsedTime: 24.9 seconds RetCode: 0 Status: OK