Package: satuRn Version: 1.18.0 Command: /home/biocbuild/bbs-3.22-bioc/R/bin/R CMD build --keep-empty-dirs --no-resave-data --md5 satuRn StartedAt: 2025-11-16 19:57:37 -0500 (Sun, 16 Nov 2025) EndedAt: 2025-11-16 19:58:55 -0500 (Sun, 16 Nov 2025) EllapsedTime: 78.1 seconds RetCode: 0 Status: OK PackageFile: satuRn_1.18.0.tar.gz PackageFileSize: 3.59 MiB