Package: saseR Version: 1.6.0 Command: /Library/Frameworks/R.framework/Resources/bin/R CMD INSTALL saseR StartedAt: 2025-11-10 15:26:12 -0500 (Mon, 10 Nov 2025) EndedAt: 2025-11-10 15:26:36 -0500 (Mon, 10 Nov 2025) EllapsedTime: 23.3 seconds RetCode: 0 Status: OK