Package: saseR Version: 1.6.0 Command: /Library/Frameworks/R.framework/Resources/bin/R CMD build --keep-empty-dirs --no-resave-data saseR StartedAt: 2025-11-10 17:36:35 -0500 (Mon, 10 Nov 2025) EndedAt: 2025-11-10 17:38:28 -0500 (Mon, 10 Nov 2025) EllapsedTime: 113.3 seconds RetCode: 0 Status: OK PackageFile: saseR_1.6.0.tar.gz PackageFileSize: 1.207 MiB