Package: sangerseqR Version: 1.46.0 Command: /home/biocbuild/bbs-3.22-bioc/R/bin/R CMD INSTALL sangerseqR StartedAt: 2025-11-11 15:55:27 -0500 (Tue, 11 Nov 2025) EndedAt: 2025-11-11 15:55:41 -0500 (Tue, 11 Nov 2025) EllapsedTime: 13.7 seconds RetCode: 0 Status: OK