Package: sangerseqR Version: 1.46.0 Command: /home/biocbuild/bbs-3.22-bioc/R/bin/R CMD check --install=check:sangerseqR.install-out.txt --library=/home/biocbuild/bbs-3.22-bioc/R/site-library --timings sangerseqR_1.46.0.tar.gz StartedAt: 2025-11-15 03:54:24 -0500 (Sat, 15 Nov 2025) EndedAt: 2025-11-15 03:56:40 -0500 (Sat, 15 Nov 2025) EllapsedTime: 135.2 seconds RetCode: 0 Status: OK CheckDir: sangerseqR.Rcheck Warnings: 0