Package: sangerseqR Version: 1.46.0 Command: /Library/Frameworks/R.framework/Resources/bin/R CMD INSTALL sangerseqR StartedAt: 2025-11-03 15:45:53 -0500 (Mon, 03 Nov 2025) EndedAt: 2025-11-03 15:46:12 -0500 (Mon, 03 Nov 2025) EllapsedTime: 18.7 seconds RetCode: 0 Status: OK