Package: sangerseqR Version: 1.46.0 Command: rm -rf sangerseqR.buildbin-libdir && mkdir sangerseqR.buildbin-libdir && /Users/biocbuild/BBS/utils/build-universal.sh sangerseqR_1.46.0.tar.gz /Library/Frameworks/R.framework/Resources/bin/R sangerseqR.buildbin-libdir StartedAt: 2025-11-04 02:01:28 -0500 (Tue, 04 Nov 2025) EndedAt: 2025-11-04 02:01:51 -0500 (Tue, 04 Nov 2025) EllapsedTime: 22.9 seconds RetCode: 0 Status: OK PackageFile: sangerseqR_1.46.0.tgz PackageFileSize: 3.185 MiB