Package: sangerseqR Version: 1.44.0 Command: /home/biocbuild/R/R/bin/R CMD INSTALL sangerseqR StartedAt: 2025-10-13 21:07:22 -0000 (Mon, 13 Oct 2025) EndedAt: 2025-10-13 21:07:41 -0000 (Mon, 13 Oct 2025) EllapsedTime: 18.6 seconds RetCode: 0 Status: OK