Package: sangeranalyseR Version: 1.20.0 Command: /home/biocbuild/bbs-3.22-bioc/R/bin/R CMD INSTALL sangeranalyseR StartedAt: 2025-11-11 15:55:48 -0500 (Tue, 11 Nov 2025) EndedAt: 2025-11-11 15:55:54 -0500 (Tue, 11 Nov 2025) EllapsedTime: 6.1 seconds RetCode: 1 Status: ERROR