############################################################################## ############################################################################## ### ### Running command: ### ### /home/biocbuild/bbs-3.22-bioc/R/bin/R CMD build --keep-empty-dirs --no-resave-data --md5 sangeranalyseR ### ############################################################################## ############################################################################## * checking for file ‘sangeranalyseR/DESCRIPTION’ ... OK * preparing ‘sangeranalyseR’: * checking DESCRIPTION meta-information ... OK * installing the package to build vignettes ----------------------------------- * installing *source* package ‘sangeranalyseR’ ... ** this is package ‘sangeranalyseR’ version ‘1.20.0’ ** using staged installation ** R ** data ** inst ** byte-compile and prepare package for lazy loading Error: object ‘TreeLine’ is not exported by 'namespace:DECIPHER' Execution halted ERROR: lazy loading failed for package ‘sangeranalyseR’ * removing ‘/tmp/Rtmpi6SmQd/Rinst35bdcc7742f445/sangeranalyseR’ ----------------------------------- ERROR: package installation failed