Package: sangeranalyseR Version: 1.18.0 Command: /home/biocbuild/bbs-3.21-bioc/R/bin/R CMD build --keep-empty-dirs --no-resave-data sangeranalyseR StartedAt: 2025-10-15 19:38:15 -0400 (Wed, 15 Oct 2025) EndedAt: 2025-10-15 19:38:52 -0400 (Wed, 15 Oct 2025) EllapsedTime: 37.1 seconds RetCode: 0 Status: OK PackageFile: sangeranalyseR_1.18.0.tar.gz PackageFileSize: 38.16 MiB