Package: sangeranalyseR Version: 1.18.0 Command: /Library/Frameworks/R.framework/Resources/bin/R CMD build --keep-empty-dirs --no-resave-data sangeranalyseR StartedAt: 2025-04-21 18:16:30 -0400 (Mon, 21 Apr 2025) EndedAt: 2025-04-21 18:17:13 -0400 (Mon, 21 Apr 2025) EllapsedTime: 43.4 seconds RetCode: 0 Status: OK PackageFile: sangeranalyseR_1.18.0.tar.gz PackageFileSize: 38.16 MiB