Package: sangeranalyseR Version: 1.18.0 Command: /home/biocbuild/R/R/bin/R CMD build --keep-empty-dirs --no-resave-data sangeranalyseR StartedAt: 2025-09-26 05:34:31 -0000 (Fri, 26 Sep 2025) EndedAt: 2025-09-26 05:35:22 -0000 (Fri, 26 Sep 2025) EllapsedTime: 51.0 seconds RetCode: 0 Status: OK PackageFile: sangeranalyseR_1.18.0.tar.gz PackageFileSize: 38.22 MiB