Package: sangeranalyseR Version: 1.18.0 Command: /Library/Frameworks/R.framework/Resources/bin/R CMD INSTALL sangeranalyseR StartedAt: 2025-10-13 18:05:56 -0400 (Mon, 13 Oct 2025) EndedAt: 2025-10-13 18:06:23 -0400 (Mon, 13 Oct 2025) EllapsedTime: 27.0 seconds RetCode: 0 Status: OK