Package: sampleClassifier Version: 1.34.0 Command: /home/biocbuild/R/R/bin/R CMD INSTALL sampleClassifier StartedAt: 2025-11-10 21:37:31 -0000 (Mon, 10 Nov 2025) EndedAt: 2025-11-10 21:37:53 -0000 (Mon, 10 Nov 2025) EllapsedTime: 21.6 seconds RetCode: 0 Status: OK