Package: sampleClassifier Version: 1.34.0 Command: /home/biocbuild/R/R/bin/R CMD check --install=check:sampleClassifier.install-out.txt --library=/home/biocbuild/R/R/site-library --no-vignettes --timings sampleClassifier_1.34.0.tar.gz StartedAt: 2025-11-11 14:15:46 -0000 (Tue, 11 Nov 2025) EndedAt: 2025-11-11 14:21:39 -0000 (Tue, 11 Nov 2025) EllapsedTime: 353.6 seconds RetCode: 0 Status: OK CheckDir: sampleClassifier.Rcheck Warnings: 0