Package: sampleClassifier Version: 1.34.0 Command: /home/biocbuild/R/R/bin/R CMD build --keep-empty-dirs --no-resave-data sampleClassifier StartedAt: 2025-11-11 04:46:06 -0000 (Tue, 11 Nov 2025) EndedAt: 2025-11-11 04:48:45 -0000 (Tue, 11 Nov 2025) EllapsedTime: 159.1 seconds RetCode: 0 Status: OK PackageFile: sampleClassifier_1.34.0.tar.gz PackageFileSize: 230.7 KiB