Package: sampleClassifier Version: 1.34.0 Command: /home/biocbuild/bbs-3.22-bioc/R/bin/R CMD INSTALL sampleClassifier StartedAt: 2025-11-11 15:33:44 -0500 (Tue, 11 Nov 2025) EndedAt: 2025-11-11 15:34:00 -0500 (Tue, 11 Nov 2025) EllapsedTime: 16.0 seconds RetCode: 0 Status: OK